BEGIN:VCALENDAR
VERSION:2.0
PRODID:-//Manasota BUDS - ECPv6.15.18//NONSGML v1.0//EN
CALSCALE:GREGORIAN
METHOD:PUBLISH
X-WR-CALNAME:Manasota BUDS
X-ORIGINAL-URL:https://www.manasotabuds.org
X-WR-CALDESC:Events for Manasota BUDS
REFRESH-INTERVAL;VALUE=DURATION:PT1H
X-Robots-Tag:noindex
X-PUBLISHED-TTL:PT1H
BEGIN:VTIMEZONE
TZID:America/New_York
BEGIN:DAYLIGHT
TZOFFSETFROM:-0500
TZOFFSETTO:-0400
TZNAME:EDT
DTSTART:20240310T070000
END:DAYLIGHT
BEGIN:STANDARD
TZOFFSETFROM:-0400
TZOFFSETTO:-0500
TZNAME:EST
DTSTART:20241103T060000
END:STANDARD
BEGIN:DAYLIGHT
TZOFFSETFROM:-0500
TZOFFSETTO:-0400
TZNAME:EDT
DTSTART:20250309T070000
END:DAYLIGHT
BEGIN:STANDARD
TZOFFSETFROM:-0400
TZOFFSETTO:-0500
TZNAME:EST
DTSTART:20251102T060000
END:STANDARD
BEGIN:DAYLIGHT
TZOFFSETFROM:-0500
TZOFFSETTO:-0400
TZNAME:EDT
DTSTART:20260308T070000
END:DAYLIGHT
BEGIN:STANDARD
TZOFFSETFROM:-0400
TZOFFSETTO:-0500
TZNAME:EST
DTSTART:20261101T060000
END:STANDARD
END:VTIMEZONE
BEGIN:VEVENT
DTSTART;TZID=America/New_York:20251101T123000
DTEND;TZID=America/New_York:20251101T140000
DTSTAMP:20260425T215731
CREATED:20250815T161009Z
LAST-MODIFIED:20250815T185845Z
UID:3795-1762000200-1762005600@www.manasotabuds.org
SUMMARY:Buddy Up Tennis - 11/01/25
DESCRIPTION:Buddy Up Tennis is a 90-minute tennis and fitness program specifically created for individuals with Down syndrome.  Buddy volunteers are partnered with Athletes to provide support\, reinforce instruction\, and develop friendships. \n\n\n\nThere are nine (9) slots available on a first-come-first-serve basis.  No tennis experience is required.  Team t-shirt provided. Space is limited and registration is required.  To start the registration process\, please email: sarasotatennis@buforlife.org. \n\n\n\nManasota BUDS supplements some of the costs of Buddy Up Tennis for its athletes. Parents are responsible for a one-time cost of $40 for the multi-month program.
URL:https://www.manasotabuds.org/event/buddy-up-tennis-11-01-25/
LOCATION:The Meadows Country Club\, 3101 Longmeadow\, Sarasota\, Florida\, 34235\, United States
ATTACH;FMTTYPE=image/jpeg:https://www.manasotabuds.org/wp-content/uploads/Tennis-1.jpg
ORGANIZER;CN="Buddy Up Tennis":MAILTO:sarasotatennis@buforlife.org
END:VEVENT
BEGIN:VEVENT
DTSTART;TZID=America/New_York:20251101T180000
DTEND;TZID=America/New_York:20251101T200000
DTSTAMP:20260425T215731
CREATED:20250914T222122Z
LAST-MODIFIED:20250914T222124Z
UID:3823-1762020000-1762027200@www.manasotabuds.org
SUMMARY:Friendsgiving Dance Party
DESCRIPTION:This event is designed for teens and adults with Down syndrome\, but all ages are welcome. \n\n\n\nThe event will be held at the Knights of Columbus Hall in Sarasota\, with light dinner and dancing.  This event is made possible by the generosity of Neal Communities.
URL:https://www.manasotabuds.org/event/friendsgiving-dance-party/
LOCATION:Knights of Columbus Hall\, 4880 Fruitville Rd\, Sarasota\, FL 34232
ATTACH;FMTTYPE=image/png:https://www.manasotabuds.org/wp-content/uploads/Friendsgiving.png
END:VEVENT
BEGIN:VEVENT
DTSTART;TZID=America/New_York:20251104T180000
DTEND;TZID=America/New_York:20251104T193000
DTSTAMP:20260425T215731
CREATED:20251029T210107Z
LAST-MODIFIED:20251029T210252Z
UID:3910-1762279200-1762284600@www.manasotabuds.org
SUMMARY:Buddy Up FITNESS - 11.04.25
DESCRIPTION:Buddy-Up Fitness is a a program that is capped at ten (10) registrations on a first-come-first serve basis.  The sessions are on Tuesdays from November 4th to January 20th.  To start the registration process\, please email sarasotatennis@buforlife.org.  Athlete participant must be at least 15 years old.  There is a participation fee of $30 for the entirety of the season.  Manasota BUDS covers the rest of the fees.  Sessions take place at the Sarasota City YMCA.
URL:https://www.manasotabuds.org/event/buddy-up-fitness/
LOCATION:Sarasota City YMCA\, 1075 S. Euclid Ave\, Sarasota\, Florida\, 34237
ATTACH;FMTTYPE=image/jpeg:https://www.manasotabuds.org/wp-content/uploads/BUF.jpg
ORGANIZER;CN="Buddy Up Fitness":MAILTO:sarasotatennis@buforlife.org
END:VEVENT
BEGIN:VEVENT
DTSTART;TZID=America/New_York:20251108T123000
DTEND;TZID=America/New_York:20251108T140000
DTSTAMP:20260425T215731
CREATED:20250815T161318Z
LAST-MODIFIED:20250815T185811Z
UID:3796-1762605000-1762610400@www.manasotabuds.org
SUMMARY:Buddy Up Tennis - 11/08/25
DESCRIPTION:Buddy Up Tennis is a 90-minute tennis and fitness program specifically created for individuals with Down syndrome.  Buddy volunteers are partnered with Athletes to provide support\, reinforce instruction\, and develop friendships. \n\n\n\nThere are nine (9) slots available on a first-come-first-serve basis.  No tennis experience is required.  Team t-shirt provided. Space is limited and registration is required.  To start the registration process\, please email: sarasotatennis@buforlife.org. \n\n\n\nManasota BUDS supplements some of the costs of Buddy Up Tennis for its athletes. Parents are responsible for a one-time cost of $40 for the multi-month program.
URL:https://www.manasotabuds.org/event/buddy-up-tennis-11-08-25/
LOCATION:The Meadows Country Club\, 3101 Longmeadow\, Sarasota\, Florida\, 34235\, United States
ATTACH;FMTTYPE=image/jpeg:https://www.manasotabuds.org/wp-content/uploads/Tennis-1.jpg
ORGANIZER;CN="Buddy Up Tennis":MAILTO:sarasotatennis@buforlife.org
END:VEVENT
BEGIN:VEVENT
DTSTART;TZID=America/New_York:20251111T180000
DTEND;TZID=America/New_York:20251111T193000
DTSTAMP:20260425T215731
CREATED:20251029T210400Z
LAST-MODIFIED:20251029T210403Z
UID:3912-1762884000-1762889400@www.manasotabuds.org
SUMMARY:Buddy Up FITNESS - 11.11.25
DESCRIPTION:Buddy-Up Fitness is a a program that is capped at ten (10) registrations on a first-come-first serve basis.  The sessions are on Tuesdays from November 4th to January 20th.  To start the registration process\, please email sarasotatennis@buforlife.org.  Athlete participant must be at least 15 years old.  There is a participation fee of $30 for the entirety of the season.  Manasota BUDS covers the rest of the fees.  Sessions take place at the Sarasota City YMCA.
URL:https://www.manasotabuds.org/event/buddy-up-fitness-11-11-25/
LOCATION:Sarasota City YMCA\, 1075 S. Euclid Ave\, Sarasota\, Florida\, 34237
ATTACH;FMTTYPE=image/jpeg:https://www.manasotabuds.org/wp-content/uploads/BUF.jpg
ORGANIZER;CN="Buddy Up Fitness":MAILTO:sarasotatennis@buforlife.org
END:VEVENT
BEGIN:VEVENT
DTSTART;TZID=America/New_York:20251115T123000
DTEND;TZID=America/New_York:20251115T140000
DTSTAMP:20260425T215731
CREATED:20250815T161441Z
LAST-MODIFIED:20250815T185738Z
UID:3797-1763209800-1763215200@www.manasotabuds.org
SUMMARY:Buddy Up Tennis - 11/15/25
DESCRIPTION:Buddy Up Tennis is a 90-minute tennis and fitness program specifically created for individuals with Down syndrome.  Buddy volunteers are partnered with Athletes to provide support\, reinforce instruction\, and develop friendships. \n\n\n\nThere are nine (9) slots available on a first-come-first-serve basis.  No tennis experience is required.  Team t-shirt provided. Space is limited and registration is required.  To start the registration process\, please email: sarasotatennis@buforlife.org. \n\n\n\nManasota BUDS supplements some of the costs of Buddy Up Tennis for its athletes. Parents are responsible for a one-time cost of $40 for the multi-month program.
URL:https://www.manasotabuds.org/event/buddy-up-tennis-11-15-25/
LOCATION:The Meadows Country Club\, 3101 Longmeadow\, Sarasota\, Florida\, 34235\, United States
ATTACH;FMTTYPE=image/jpeg:https://www.manasotabuds.org/wp-content/uploads/Tennis-1.jpg
ORGANIZER;CN="Buddy Up Tennis":MAILTO:sarasotatennis@buforlife.org
END:VEVENT
BEGIN:VEVENT
DTSTART;TZID=America/New_York:20251118T180000
DTEND;TZID=America/New_York:20251118T193000
DTSTAMP:20260425T215731
CREATED:20251029T210504Z
LAST-MODIFIED:20251029T210505Z
UID:3913-1763488800-1763494200@www.manasotabuds.org
SUMMARY:Buddy Up FITNESS - 11.18.25
DESCRIPTION:Buddy-Up Fitness is a a program that is capped at ten (10) registrations on a first-come-first serve basis.  The sessions are on Tuesdays from November 4th to January 20th.  To start the registration process\, please email sarasotatennis@buforlife.org.  Athlete participant must be at least 15 years old.  There is a participation fee of $30 for the entirety of the season.  Manasota BUDS covers the rest of the fees.  Sessions take place at the Sarasota City YMCA.
URL:https://www.manasotabuds.org/event/buddy-up-fitness-11-18-25/
LOCATION:Sarasota City YMCA\, 1075 S. Euclid Ave\, Sarasota\, Florida\, 34237
ATTACH;FMTTYPE=image/jpeg:https://www.manasotabuds.org/wp-content/uploads/BUF.jpg
ORGANIZER;CN="Buddy Up Fitness":MAILTO:sarasotatennis@buforlife.org
END:VEVENT
BEGIN:VEVENT
DTSTART;TZID=America/New_York:20251122T123000
DTEND;TZID=America/New_York:20251122T140000
DTSTAMP:20260425T215731
CREATED:20250815T161609Z
LAST-MODIFIED:20250815T185705Z
UID:3798-1763814600-1763820000@www.manasotabuds.org
SUMMARY:Buddy Up Tennis - 11/22/25
DESCRIPTION:Buddy Up Tennis is a 90-minute tennis and fitness program specifically created for individuals with Down syndrome.  Buddy volunteers are partnered with Athletes to provide support\, reinforce instruction\, and develop friendships. \n\n\n\nThere are nine (9) slots available on a first-come-first-serve basis.  No tennis experience is required.  Team t-shirt provided. Space is limited and registration is required.  To start the registration process\, please email: sarasotatennis@buforlife.org. \n\n\n\nManasota BUDS supplements some of the costs of Buddy Up Tennis for its athletes. Parents are responsible for a one-time cost of $40 for the multi-month program.
URL:https://www.manasotabuds.org/event/buddy-up-tennis-11-22-25/
LOCATION:The Meadows Country Club\, 3101 Longmeadow\, Sarasota\, Florida\, 34235\, United States
ATTACH;FMTTYPE=image/jpeg:https://www.manasotabuds.org/wp-content/uploads/Tennis-1.jpg
ORGANIZER;CN="Buddy Up Tennis":MAILTO:sarasotatennis@buforlife.org
END:VEVENT
BEGIN:VEVENT
DTSTART;TZID=America/New_York:20251125T080000
DTEND;TZID=America/New_York:20251125T170000
DTSTAMP:20260425T215731
CREATED:20251029T210601Z
LAST-MODIFIED:20251029T210602Z
UID:3914-1764057600-1764090000@www.manasotabuds.org
SUMMARY:Buddy Up FITNESS - 11.25.25
DESCRIPTION:Buddy-Up Fitness is a a program that is capped at ten (10) registrations on a first-come-first serve basis.  The sessions are on Tuesdays from November 4th to January 20th.  To start the registration process\, please email sarasotatennis@buforlife.org.  Athlete participant must be at least 15 years old.  There is a participation fee of $30 for the entirety of the season.  Manasota BUDS covers the rest of the fees.  Sessions take place at the Sarasota City YMCA.
URL:https://www.manasotabuds.org/event/buddy-up-fitness-11-25-25/
LOCATION:Sarasota City YMCA\, 1075 S. Euclid Ave\, Sarasota\, Florida\, 34237
ATTACH;FMTTYPE=image/jpeg:https://www.manasotabuds.org/wp-content/uploads/BUF.jpg
ORGANIZER;CN="Buddy Up Fitness":MAILTO:sarasotatennis@buforlife.org
END:VEVENT
END:VCALENDAR