BEGIN:VCALENDAR
VERSION:2.0
PRODID:-//Manasota BUDS - ECPv6.15.18//NONSGML v1.0//EN
CALSCALE:GREGORIAN
METHOD:PUBLISH
X-WR-CALNAME:Manasota BUDS
X-ORIGINAL-URL:https://www.manasotabuds.org
X-WR-CALDESC:Events for Manasota BUDS
REFRESH-INTERVAL;VALUE=DURATION:PT1H
X-Robots-Tag:noindex
X-PUBLISHED-TTL:PT1H
BEGIN:VTIMEZONE
TZID:America/New_York
BEGIN:DAYLIGHT
TZOFFSETFROM:-0500
TZOFFSETTO:-0400
TZNAME:EDT
DTSTART:20240310T070000
END:DAYLIGHT
BEGIN:STANDARD
TZOFFSETFROM:-0400
TZOFFSETTO:-0500
TZNAME:EST
DTSTART:20241103T060000
END:STANDARD
BEGIN:DAYLIGHT
TZOFFSETFROM:-0500
TZOFFSETTO:-0400
TZNAME:EDT
DTSTART:20250309T070000
END:DAYLIGHT
BEGIN:STANDARD
TZOFFSETFROM:-0400
TZOFFSETTO:-0500
TZNAME:EST
DTSTART:20251102T060000
END:STANDARD
BEGIN:DAYLIGHT
TZOFFSETFROM:-0500
TZOFFSETTO:-0400
TZNAME:EDT
DTSTART:20260308T070000
END:DAYLIGHT
BEGIN:STANDARD
TZOFFSETFROM:-0400
TZOFFSETTO:-0500
TZNAME:EST
DTSTART:20261101T060000
END:STANDARD
END:VTIMEZONE
BEGIN:VEVENT
DTSTART;TZID=America/New_York:20250821T090000
DTEND;TZID=America/New_York:20251028T170000
DTSTAMP:20260425T183645
CREATED:20250815T164026Z
LAST-MODIFIED:20250815T185603Z
UID:3802-1755766800-1761670800@www.manasotabuds.org
SUMMARY:Buddy Up Fitness Registration Opens
DESCRIPTION:Registration for the Fall 2025 Session for Buddy Up Fitness opens Thursday\, August 21\, 2025 at 9AM. \n\n\n\nThere are nine (9) slots available on a first-come-first-serve basis.  The dates for the session are September 2\, 9\, 16\, 23 and 30; October 7\, 14\, 21\, 28. \n\n\n\nSpace is limited and registration is required.  To start the registration process\, please email to sarasotatennis@buforlife.org \n\n\n\nAthlete participant must be at least 15 years old. Sessions are held at the Sarasota City YMCA located at 1075 S. Euclid Ave. Manasota BUDS supplements some of the costs of Buddy Up Fitness. Parents are responsible for a one-time cost of $30 for the multi-month program.
URL:https://www.manasotabuds.org/event/buddy-up-fitness-registration-opens/
LOCATION:Sarasota City YMCA\, 1075 S. Euclid Ave\, Sarasota\, Florida\, 34237
ATTACH;FMTTYPE=image/jpeg:https://www.manasotabuds.org/wp-content/uploads/Fitness-1.jpg
ORGANIZER;CN="Buddy Up Fitness":MAILTO:sarasotatennis@buforlife.org
END:VEVENT
BEGIN:VEVENT
DTSTART;TZID=America/New_York:20250902T180000
DTEND;TZID=America/New_York:20250902T191500
DTSTAMP:20260425T183645
CREATED:20250815T164202Z
LAST-MODIFIED:20250815T185510Z
UID:3805-1756836000-1756840500@www.manasotabuds.org
SUMMARY:Buddy Up Fitness - 09/02/25
DESCRIPTION:Registration for the Fall 2025 Session for Buddy Up Fitness opened 08/21/25. \n\n\n\nThere are nine (9) slots available for Buddy Up Fitness\, allocated on a first-come-first-serve basis.  \n\n\n\nSpace is limited and registration is required.  To start the registration process\, please email sarasotatennis@buforlife.org \n\n\n\nAthlete participant must be at least 15 years old.  Sessions are held at the Sarasota City YMCA located at 1075 S. Euclid Ave.  Manasota BUDS supplements some of the costs of Buddy Up Fitness.  Parents are responsible for a one-time cost of $30 for the multi-month program.
URL:https://www.manasotabuds.org/event/buddy-up-fitness-09-02-25/
LOCATION:Sarasota City YMCA\, 1075 S. Euclid Ave\, Sarasota\, Florida\, 34237
ATTACH;FMTTYPE=image/jpeg:https://www.manasotabuds.org/wp-content/uploads/Fitness-1.jpg
ORGANIZER;CN="Buddy Up Fitness":MAILTO:sarasotatennis@buforlife.org
END:VEVENT
BEGIN:VEVENT
DTSTART;TZID=America/New_York:20250909T180000
DTEND;TZID=America/New_York:20250909T191500
DTSTAMP:20260425T183645
CREATED:20250815T164329Z
LAST-MODIFIED:20250815T185439Z
UID:3806-1757440800-1757445300@www.manasotabuds.org
SUMMARY:Buddy Up Fitness - 09/09/25
DESCRIPTION:Registration for the Fall 2025 Session for Buddy Up Fitness opened 08/21/25. \n\n\n\nThere are nine (9) slots available for Buddy Up Fitness\, allocated on a first-come-first-serve basis.  \n\n\n\nSpace is limited and registration is required.  To start the registration process\, please email sarasotatennis@buforlife.org \n\n\n\nAthlete participant must be at least 15 years old.  Sessions are held at the Sarasota City YMCA located at 1075 S. Euclid Ave.  Manasota BUDS supplements some of the costs of Buddy Up Fitness.  Parents are responsible for a one-time cost of $30 for the multi-month program.
URL:https://www.manasotabuds.org/event/buddy-up-fitness-09-09-25/
LOCATION:Sarasota City YMCA\, 1075 S. Euclid Ave\, Sarasota\, Florida\, 34237
ATTACH;FMTTYPE=image/jpeg:https://www.manasotabuds.org/wp-content/uploads/Fitness-1.jpg
ORGANIZER;CN="Buddy Up Fitness":MAILTO:sarasotatennis@buforlife.org
END:VEVENT
BEGIN:VEVENT
DTSTART;TZID=America/New_York:20250916T180000
DTEND;TZID=America/New_York:20250916T191500
DTSTAMP:20260425T183645
CREATED:20250815T164458Z
LAST-MODIFIED:20250815T185356Z
UID:3807-1758045600-1758050100@www.manasotabuds.org
SUMMARY:Buddy Up Fitness - 09/16/25
DESCRIPTION:Registration for the Fall 2025 Session for Buddy Up Fitness opened 08/21/25. \n\n\n\nThere are nine (9) slots available for Buddy Up Fitness\, allocated on a first-come-first-serve basis.  \n\n\n\nSpace is limited and registration is required.  To start the registration process\, please email sarasotatennis@buforlife.org \n\n\n\nAthlete participant must be at least 15 years old.  Sessions are held at the Sarasota City YMCA located at 1075 S. Euclid Ave.  Manasota BUDS supplements some of the costs of Buddy Up Fitness.  Parents are responsible for a one-time cost of $30 for the multi-month program.
URL:https://www.manasotabuds.org/event/buddy-up-fitness-09-16-25/
LOCATION:Sarasota City YMCA\, 1075 S. Euclid Ave\, Sarasota\, Florida\, 34237
ATTACH;FMTTYPE=image/jpeg:https://www.manasotabuds.org/wp-content/uploads/Fitness-1.jpg
ORGANIZER;CN="Buddy Up Fitness":MAILTO:sarasotatennis@buforlife.org
END:VEVENT
BEGIN:VEVENT
DTSTART;TZID=America/New_York:20250920T120000
DTEND;TZID=America/New_York:20250920T150000
DTSTAMP:20260425T183645
CREATED:20250529T213928Z
LAST-MODIFIED:20250529T213931Z
UID:3673-1758369600-1758380400@www.manasotabuds.org
SUMMARY:09/20/25 - Cool BUDS x Adventure for All
DESCRIPTION:At 12 PM we will meet at Neal Preserve  for a fun and educational nature outing. It will include a short nature lesson and a scavenger hunt through the preserve. \n\n\n\nWe’ll wrap up with a creative nature scrapbooking activity using items we find along the way. \n\n\n\nImmediately following the nature walk (approximately 1:45 PM) join us for lunch afterward at Floridays . BUDS will provide a lunch meal and soft drink for all adults with Down syndrome. \n\n\n\nYou are welcome to join us for the nature walk at Neal and/or the lunch at Floridays. Please RSVP if you plan to join for the lunch portion so that we can reserve seats at the restaurant. Space at the restaurant is limited to 30 people.  That’s 1 Cool BUD + 1 Parent/Guardian.  \n\n\n\nThis has been made possible by a generous grant from Neal Communities. \n\n\n\nTo reiterate\, if you are only doing the walk\, you do not need to RSVP.  If you are doing the walk AND the lunch\, please RSVP for 1 Cool BUD and 1 Parent/Guardian.
URL:https://www.manasotabuds.org/event/09-20-25-cool-buds-x-adventure-for-all/
LOCATION:Neal Preserve\, 12301 Manatee Ave. W\, Bradenton\, Florida\, 34209\, United States
ATTACH;FMTTYPE=image/jpeg:https://www.manasotabuds.org/wp-content/uploads/red-orange-and-green-leaves-during-daytime-33817-scaled.jpg
END:VEVENT
BEGIN:VEVENT
DTSTART;TZID=America/New_York:20250927T123000
DTEND;TZID=America/New_York:20250927T140000
DTSTAMP:20260425T183645
CREATED:20250815T155250Z
LAST-MODIFIED:20250815T185325Z
UID:3780-1758976200-1758981600@www.manasotabuds.org
SUMMARY:Buddy Up Tennis - 09/27/25
DESCRIPTION:Buddy Up Tennis is a 90-minute tennis and fitness program specifically created for individuals with Down syndrome.  Buddy volunteers are partnered with Athletes to provide support\, reinforce instruction\, and develop friendships.   \n\n\n\nThere are nine (9) slots available on a first-come-first-serve basis.  No tennis experience is required.  Team t-shirt provided. Space is limited and registration is required.  To start the registration process\, please email: sarasotatennis@buforlife.org. \n\n\n\nManasota BUDS supplements some of the costs of Buddy Up Tennis for its athletes. Parents are responsible for a one-time cost of $40 for the multi-month program.
URL:https://www.manasotabuds.org/event/buddy-up-tennis/
LOCATION:The Meadows Country Club Tennis Courts\, 3101 Longmeadow\, Sarasota\, FL 34235
ATTACH;FMTTYPE=image/jpeg:https://www.manasotabuds.org/wp-content/uploads/Tennis-1.jpg
ORGANIZER;CN="Buddy Up Tennis":MAILTO:sarasotatennis@buforlife.org
END:VEVENT
BEGIN:VEVENT
DTSTART;TZID=America/New_York:20250927T190000
DTEND;TZID=America/New_York:20250927T210000
DTSTAMP:20260425T183645
CREATED:20250516T231607Z
LAST-MODIFIED:20250815T162130Z
UID:3658-1758999600-1759006800@www.manasotabuds.org
SUMMARY:09/27/25 Cool BUDS - Bowling for the Stars!
DESCRIPTION:Come join the fun at Bowlero with a bowling benefit for Night with the Stars Prom\, Inc\, a free prom for people with different abilities. Enjoy the bowling as well as free food and unlimited soft drinks. There will also be raffles\, a 50/50\, and a silent auction. \n\n\n\nThe cost of admission is covered by a generous grant from Neal Communities.
URL:https://www.manasotabuds.org/event/09-27-25-cool-buds-bowling-for-the-stars/
LOCATION:Bowlero Bradenton\, 4208 Cortez Road West\, Bradenton\, Florida\, 34210\, United States
ATTACH;FMTTYPE=image/jpeg:https://www.manasotabuds.org/wp-content/uploads/Bowling.jpg
END:VEVENT
BEGIN:VEVENT
DTSTART;TZID=America/New_York:20250930T180000
DTEND;TZID=America/New_York:20250930T191500
DTSTAMP:20260425T183645
CREATED:20250815T164616Z
LAST-MODIFIED:20250815T185228Z
UID:3808-1759255200-1759259700@www.manasotabuds.org
SUMMARY:Buddy Up Fitness - 09/30/25
DESCRIPTION:Registration for the Fall 2025 Session for Buddy Up Fitness opened 08/21/25. \n\n\n\nThere are nine (9) slots available for Buddy Up Fitness\, allocated on a first-come-first-serve basis.  \n\n\n\nSpace is limited and registration is required.  To start the registration process\, please email sarasotatennis@buforlife.org \n\n\n\nAthlete participant must be at least 15 years old.  Sessions are held at the Sarasota City YMCA located at 1075 S. Euclid Ave.  Manasota BUDS supplements some of the costs of Buddy Up Fitness.  Parents are responsible for a one-time cost of $30 for the multi-month program.
URL:https://www.manasotabuds.org/event/buddy-up-fitness-09-30-25/
LOCATION:Sarasota City YMCA\, 1075 S. Euclid Ave\, Sarasota\, Florida\, 34237
ATTACH;FMTTYPE=image/jpeg:https://www.manasotabuds.org/wp-content/uploads/Fitness-1.jpg
ORGANIZER;CN="Buddy Up Fitness":MAILTO:sarasotatennis@buforlife.org
END:VEVENT
END:VCALENDAR