BEGIN:VCALENDAR
VERSION:2.0
PRODID:-//Manasota BUDS - ECPv6.15.18//NONSGML v1.0//EN
CALSCALE:GREGORIAN
METHOD:PUBLISH
X-ORIGINAL-URL:https://www.manasotabuds.org
X-WR-CALDESC:Events for Manasota BUDS
REFRESH-INTERVAL;VALUE=DURATION:PT1H
X-Robots-Tag:noindex
X-PUBLISHED-TTL:PT1H
BEGIN:VTIMEZONE
TZID:America/New_York
BEGIN:DAYLIGHT
TZOFFSETFROM:-0500
TZOFFSETTO:-0400
TZNAME:EDT
DTSTART:20240310T070000
END:DAYLIGHT
BEGIN:STANDARD
TZOFFSETFROM:-0400
TZOFFSETTO:-0500
TZNAME:EST
DTSTART:20241103T060000
END:STANDARD
BEGIN:DAYLIGHT
TZOFFSETFROM:-0500
TZOFFSETTO:-0400
TZNAME:EDT
DTSTART:20250309T070000
END:DAYLIGHT
BEGIN:STANDARD
TZOFFSETFROM:-0400
TZOFFSETTO:-0500
TZNAME:EST
DTSTART:20251102T060000
END:STANDARD
BEGIN:DAYLIGHT
TZOFFSETFROM:-0500
TZOFFSETTO:-0400
TZNAME:EDT
DTSTART:20260308T070000
END:DAYLIGHT
BEGIN:STANDARD
TZOFFSETFROM:-0400
TZOFFSETTO:-0500
TZNAME:EST
DTSTART:20261101T060000
END:STANDARD
END:VTIMEZONE
BEGIN:VEVENT
DTSTART;TZID=America/New_York:20250126T150000
DTEND;TZID=America/New_York:20250126T170000
DTSTAMP:20260425T115902
CREATED:20241113T151356Z
LAST-MODIFIED:20250120T160150Z
UID:3169-1737903600-1737910800@www.manasotabuds.org
SUMMARY:(Cool BUDS 18+) 01/26/2025 Bowlero Bowling Party
DESCRIPTION:Cool BUDS are invited to a bowling party on Sunday\, January 26th from 3 PM to 5 PM at Bowlero Gulf Gate. The event includes bowling\, shoe rental\, food & drinks. \n\n\n\nPlease register only for the person with Down syndrome in your party. Registration will include the bowling and food package for the individual with Down syndrome only. Family members are welcome to attend and pay for bowling\, food and drink separately. This event is for Cool BUDS 18+. \n\n\n\nMenu: Chicken Tenders\, Pizza – Cheese\, Veggie Spring Rolls\, French Fries\, Salad\, Cookie Cake\, Unlimited Soft Drinks \n\n\n\nCool BUDS activities are generously sponsored by a grant from Neal Communities.
URL:https://www.manasotabuds.org/event/01-26-2025-bowlero-bowling-party/
LOCATION:Bowlero Gulf Gate\, 7221 S Tamiami Trail\, Sarasota\, Florida\, 34231\, United States
END:VEVENT
END:VCALENDAR