BEGIN:VCALENDAR
VERSION:2.0
PRODID:-//Manasota BUDS - ECPv6.15.18//NONSGML v1.0//EN
CALSCALE:GREGORIAN
METHOD:PUBLISH
X-WR-CALNAME:Manasota BUDS
X-ORIGINAL-URL:https://www.manasotabuds.org
X-WR-CALDESC:Events for Manasota BUDS
REFRESH-INTERVAL;VALUE=DURATION:PT1H
X-Robots-Tag:noindex
X-PUBLISHED-TTL:PT1H
BEGIN:VTIMEZONE
TZID:America/New_York
BEGIN:DAYLIGHT
TZOFFSETFROM:-0500
TZOFFSETTO:-0400
TZNAME:EDT
DTSTART:20230312T070000
END:DAYLIGHT
BEGIN:STANDARD
TZOFFSETFROM:-0400
TZOFFSETTO:-0500
TZNAME:EST
DTSTART:20231105T060000
END:STANDARD
BEGIN:DAYLIGHT
TZOFFSETFROM:-0500
TZOFFSETTO:-0400
TZNAME:EDT
DTSTART:20240310T070000
END:DAYLIGHT
BEGIN:STANDARD
TZOFFSETFROM:-0400
TZOFFSETTO:-0500
TZNAME:EST
DTSTART:20241103T060000
END:STANDARD
BEGIN:DAYLIGHT
TZOFFSETFROM:-0500
TZOFFSETTO:-0400
TZNAME:EDT
DTSTART:20250309T070000
END:DAYLIGHT
BEGIN:STANDARD
TZOFFSETFROM:-0400
TZOFFSETTO:-0500
TZNAME:EST
DTSTART:20251102T060000
END:STANDARD
END:VTIMEZONE
BEGIN:VEVENT
DTSTART;TZID=America/New_York:20241016T190000
DTEND;TZID=America/New_York:20241016T220000
DTSTAMP:20260425T170554
CREATED:20240102T180955Z
LAST-MODIFIED:20240102T180956Z
UID:2203-1729105200-1729116000@www.manasotabuds.org
SUMMARY:DADS Night Out - 10/16/24
DESCRIPTION:The Manasota BUDS chapter of Dads Appreciating Down Syndrome (DADS) meets monthly over a meal\, cold drinks\, and good conversations. This is a wonderful opportunity to network\, share your story\, and support one another. Meetings typically take place on the 2nd or 3rd Wednesday of each month. RSVP below and/or sign-up to receive DADS updates by emailing dadsnightout@manasotabuds.org. *Manasota BUDS will purchase food and soft drinks for those who RSVP. Alcoholic beverages must be purchased separately by the consumer.
URL:https://www.manasotabuds.org/event/dads-night-out-10-16-24/
LOCATION:Gecko’s Grill & Pub\, 351 N. Cattlemen Rd\, Sarasota\, Florida\, 34232
ATTACH;FMTTYPE=image/png:https://www.manasotabuds.org/wp-content/uploads/DADS-with-Padding-1.png
ORGANIZER;CN="Kevin Underwood%2C BUDS DADS Facilitator":MAILTO:dadsnightout@manasotabuds.org
END:VEVENT
BEGIN:VEVENT
DTSTART;TZID=America/New_York:20241026T090000
DTEND;TZID=America/New_York:20241026T140000
DTSTAMP:20260425T170554
CREATED:20240102T181621Z
LAST-MODIFIED:20240815T235247Z
UID:2210-1729933200-1729951200@www.manasotabuds.org
SUMMARY:BUDDY WALK - 10/26/24
DESCRIPTION:
URL:https://www.manasotabuds.org/event/buddy-walk/
LOCATION:Bayside Community Church\, 15800 FL-64\, Bradenton\, Florida\, 34212
ATTACH;FMTTYPE=image/jpeg:https://www.manasotabuds.org/wp-content/uploads/BUDS-Buddy-Walk-Logo-with-Padding.jpg
END:VEVENT
END:VCALENDAR