BEGIN:VCALENDAR
VERSION:2.0
PRODID:-//Manasota BUDS - ECPv6.15.18//NONSGML v1.0//EN
CALSCALE:GREGORIAN
METHOD:PUBLISH
X-ORIGINAL-URL:https://www.manasotabuds.org
X-WR-CALDESC:Events for Manasota BUDS
REFRESH-INTERVAL;VALUE=DURATION:PT1H
X-Robots-Tag:noindex
X-PUBLISHED-TTL:PT1H
BEGIN:VTIMEZONE
TZID:America/New_York
BEGIN:DAYLIGHT
TZOFFSETFROM:-0500
TZOFFSETTO:-0400
TZNAME:EDT
DTSTART:20250309T070000
END:DAYLIGHT
BEGIN:STANDARD
TZOFFSETFROM:-0400
TZOFFSETTO:-0500
TZNAME:EST
DTSTART:20251102T060000
END:STANDARD
BEGIN:DAYLIGHT
TZOFFSETFROM:-0500
TZOFFSETTO:-0400
TZNAME:EDT
DTSTART:20260308T070000
END:DAYLIGHT
BEGIN:STANDARD
TZOFFSETFROM:-0400
TZOFFSETTO:-0500
TZNAME:EST
DTSTART:20261101T060000
END:STANDARD
BEGIN:DAYLIGHT
TZOFFSETFROM:-0500
TZOFFSETTO:-0400
TZNAME:EDT
DTSTART:20270314T070000
END:DAYLIGHT
BEGIN:STANDARD
TZOFFSETFROM:-0400
TZOFFSETTO:-0500
TZNAME:EST
DTSTART:20271107T060000
END:STANDARD
END:VTIMEZONE
BEGIN:VEVENT
DTSTART;TZID=America/New_York:20260606T100000
DTEND;TZID=America/New_York:20260606T120000
DTSTAMP:20260424T003323
CREATED:20260409T185837Z
LAST-MODIFIED:20260409T190053Z
UID:4278-1780740000-1780747200@www.manasotabuds.org
SUMMARY:JumpJump Multiverse Event
DESCRIPTION:This event is for our Baby Buds Group (Ages 0 to 5).  The event will be hosted at JumpJump Multiverse Indoor Playground in Sarasota.  JumpJump is a child-friendly space with slides\, swings\, ballpits\, and tunnels.  This is a great opportunity for our younger BUDS families to bond.  \n\n\n\nPlease contact Amanda Baar at abaar999@gmail.com with any event-related questions.
URL:https://www.manasotabuds.org/event/jumpjump-multiverse-event/
LOCATION:JumpJump Multiverse\, 999 Cattleman Rd\, Sarasota\, Florida\, 34232\, United States
ATTACH;FMTTYPE=image/png:https://www.manasotabuds.org/wp-content/uploads/Jump-Jump.png
END:VEVENT
BEGIN:VEVENT
DTSTART;TZID=America/New_York:20260614T130000
DTEND;TZID=America/New_York:20260614T150000
DTSTAMP:20260424T003323
CREATED:20260323T132250Z
LAST-MODIFIED:20260328T214248Z
UID:4190-1781442000-1781449200@www.manasotabuds.org
SUMMARY:Pottery & Art Class
DESCRIPTION:This event is for our Cool Buds age group (18+). The event is limited to 12 participants with Down syndrome. Parents can relax in the courtyard during the class.
URL:https://www.manasotabuds.org/event/pottery-art-class/
LOCATION:The Makery SRQ\, 821 Apricot Ave\, Sarasota\, Florida\, 34237\, United States
ATTACH;FMTTYPE=image/jpeg:https://www.manasotabuds.org/wp-content/uploads/Pottery.jpeg
END:VEVENT
BEGIN:VEVENT
DTSTART;TZID=America/New_York:20260628T000000
DTEND;TZID=America/New_York:20260628T235959
DTSTAMP:20260424T003323
CREATED:20260323T132833Z
LAST-MODIFIED:20260413T144448Z
UID:4191-1782604800-1782691199@www.manasotabuds.org
SUMMARY:Toy Story 5 Movie Day
DESCRIPTION:Time TBD once tickets are available. This will be an afternoon showing of Toy Story 5. Tickets are limited and will include popcorn and a drink. This event is limited to Teen Buds (ages 13 to 18 years of age). Guardians attending (1 per guest) must be 18+.
URL:https://www.manasotabuds.org/event/toy-story-5-movie-day/
LOCATION:Lakewood Ranch Cinemas\, 10715 Rodeo Dr\, Lakewood Ranch\, Florida\, 34202\, United States
ATTACH;FMTTYPE=image/png:https://www.manasotabuds.org/wp-content/uploads/Toy-Story-5.png
ORGANIZER;CN="Manasota BUDS Events":MAILTO:abaar999@gmail.com
END:VEVENT
END:VCALENDAR