BEGIN:VCALENDAR
VERSION:2.0
PRODID:-//Manasota BUDS - ECPv6.15.18//NONSGML v1.0//EN
CALSCALE:GREGORIAN
METHOD:PUBLISH
X-WR-CALNAME:Manasota BUDS
X-ORIGINAL-URL:https://www.manasotabuds.org
X-WR-CALDESC:Events for Manasota BUDS
REFRESH-INTERVAL;VALUE=DURATION:PT1H
X-Robots-Tag:noindex
X-PUBLISHED-TTL:PT1H
BEGIN:VTIMEZONE
TZID:America/New_York
BEGIN:DAYLIGHT
TZOFFSETFROM:-0500
TZOFFSETTO:-0400
TZNAME:EDT
DTSTART:20250309T070000
END:DAYLIGHT
BEGIN:STANDARD
TZOFFSETFROM:-0400
TZOFFSETTO:-0500
TZNAME:EST
DTSTART:20251102T060000
END:STANDARD
BEGIN:DAYLIGHT
TZOFFSETFROM:-0500
TZOFFSETTO:-0400
TZNAME:EDT
DTSTART:20260308T070000
END:DAYLIGHT
BEGIN:STANDARD
TZOFFSETFROM:-0400
TZOFFSETTO:-0500
TZNAME:EST
DTSTART:20261101T060000
END:STANDARD
BEGIN:DAYLIGHT
TZOFFSETFROM:-0500
TZOFFSETTO:-0400
TZNAME:EDT
DTSTART:20270314T070000
END:DAYLIGHT
BEGIN:STANDARD
TZOFFSETFROM:-0400
TZOFFSETTO:-0500
TZNAME:EST
DTSTART:20271107T060000
END:STANDARD
END:VTIMEZONE
BEGIN:VEVENT
DTSTART;TZID=America/New_York:20260419T120000
DTEND;TZID=America/New_York:20260419T140000
DTSTAMP:20260423T050140
CREATED:20260323T130934Z
LAST-MODIFIED:20260413T141241Z
UID:4179-1776600000-1776607200@www.manasotabuds.org
SUMMARY:Bowlero - Bowling & Pizza
DESCRIPTION:This activity is for our Cool Buds age group (ages 18+). The event will be hosted at Bowlero and the group activity with pizza and fries included. We are limited to 15 bowlers with Down syndrome for this event.
URL:https://www.manasotabuds.org/event/bowlero-bowling-pizza/
LOCATION:Bowlero – Bradenton\, 4208 Cortez Rd\, Bradenton\, Florida\, 34210\, United States
ATTACH;FMTTYPE=image/jpeg:https://www.manasotabuds.org/wp-content/uploads/Bowling.jpg
ORGANIZER;CN="Manasota BUDS Events":MAILTO:abaar999@gmail.com
END:VEVENT
END:VCALENDAR