BEGIN:VCALENDAR
VERSION:2.0
PRODID:-//Manasota BUDS - ECPv6.15.18//NONSGML v1.0//EN
CALSCALE:GREGORIAN
METHOD:PUBLISH
X-ORIGINAL-URL:https://www.manasotabuds.org
X-WR-CALDESC:Events for Manasota BUDS
REFRESH-INTERVAL;VALUE=DURATION:PT1H
X-Robots-Tag:noindex
X-PUBLISHED-TTL:PT1H
BEGIN:VTIMEZONE
TZID:America/New_York
BEGIN:DAYLIGHT
TZOFFSETFROM:-0500
TZOFFSETTO:-0400
TZNAME:EDT
DTSTART:20240310T070000
END:DAYLIGHT
BEGIN:STANDARD
TZOFFSETFROM:-0400
TZOFFSETTO:-0500
TZNAME:EST
DTSTART:20241103T060000
END:STANDARD
BEGIN:DAYLIGHT
TZOFFSETFROM:-0500
TZOFFSETTO:-0400
TZNAME:EDT
DTSTART:20250309T070000
END:DAYLIGHT
BEGIN:STANDARD
TZOFFSETFROM:-0400
TZOFFSETTO:-0500
TZNAME:EST
DTSTART:20251102T060000
END:STANDARD
BEGIN:DAYLIGHT
TZOFFSETFROM:-0500
TZOFFSETTO:-0400
TZNAME:EDT
DTSTART:20260308T070000
END:DAYLIGHT
BEGIN:STANDARD
TZOFFSETFROM:-0400
TZOFFSETTO:-0500
TZNAME:EST
DTSTART:20261101T060000
END:STANDARD
END:VTIMEZONE
BEGIN:VEVENT
DTSTART;TZID=America/New_York:20251101T123000
DTEND;TZID=America/New_York:20251101T140000
DTSTAMP:20260425T215916
CREATED:20250815T161009Z
LAST-MODIFIED:20250815T185845Z
UID:3795-1762000200-1762005600@www.manasotabuds.org
SUMMARY:Buddy Up Tennis - 11/01/25
DESCRIPTION:Buddy Up Tennis is a 90-minute tennis and fitness program specifically created for individuals with Down syndrome.  Buddy volunteers are partnered with Athletes to provide support\, reinforce instruction\, and develop friendships. \n\n\n\nThere are nine (9) slots available on a first-come-first-serve basis.  No tennis experience is required.  Team t-shirt provided. Space is limited and registration is required.  To start the registration process\, please email: sarasotatennis@buforlife.org. \n\n\n\nManasota BUDS supplements some of the costs of Buddy Up Tennis for its athletes. Parents are responsible for a one-time cost of $40 for the multi-month program.
URL:https://www.manasotabuds.org/event/buddy-up-tennis-11-01-25/
LOCATION:The Meadows Country Club\, 3101 Longmeadow\, Sarasota\, Florida\, 34235\, United States
ATTACH;FMTTYPE=image/jpeg:https://www.manasotabuds.org/wp-content/uploads/Tennis-1.jpg
ORGANIZER;CN="Buddy Up Tennis":MAILTO:sarasotatennis@buforlife.org
END:VEVENT
BEGIN:VEVENT
DTSTART;TZID=America/New_York:20251101T180000
DTEND;TZID=America/New_York:20251101T200000
DTSTAMP:20260425T215916
CREATED:20250914T222122Z
LAST-MODIFIED:20250914T222124Z
UID:3823-1762020000-1762027200@www.manasotabuds.org
SUMMARY:Friendsgiving Dance Party
DESCRIPTION:This event is designed for teens and adults with Down syndrome\, but all ages are welcome. \n\n\n\nThe event will be held at the Knights of Columbus Hall in Sarasota\, with light dinner and dancing.  This event is made possible by the generosity of Neal Communities.
URL:https://www.manasotabuds.org/event/friendsgiving-dance-party/
LOCATION:Knights of Columbus Hall\, 4880 Fruitville Rd\, Sarasota\, FL 34232
ATTACH;FMTTYPE=image/png:https://www.manasotabuds.org/wp-content/uploads/Friendsgiving.png
END:VEVENT
END:VCALENDAR