BEGIN:VCALENDAR
VERSION:2.0
PRODID:-//Manasota BUDS - ECPv6.15.18//NONSGML v1.0//EN
CALSCALE:GREGORIAN
METHOD:PUBLISH
X-WR-CALNAME:Manasota BUDS
X-ORIGINAL-URL:https://www.manasotabuds.org
X-WR-CALDESC:Events for Manasota BUDS
REFRESH-INTERVAL;VALUE=DURATION:PT1H
X-Robots-Tag:noindex
X-PUBLISHED-TTL:PT1H
BEGIN:VTIMEZONE
TZID:America/New_York
BEGIN:DAYLIGHT
TZOFFSETFROM:-0500
TZOFFSETTO:-0400
TZNAME:EDT
DTSTART:20240310T070000
END:DAYLIGHT
BEGIN:STANDARD
TZOFFSETFROM:-0400
TZOFFSETTO:-0500
TZNAME:EST
DTSTART:20241103T060000
END:STANDARD
BEGIN:DAYLIGHT
TZOFFSETFROM:-0500
TZOFFSETTO:-0400
TZNAME:EDT
DTSTART:20250309T070000
END:DAYLIGHT
BEGIN:STANDARD
TZOFFSETFROM:-0400
TZOFFSETTO:-0500
TZNAME:EST
DTSTART:20251102T060000
END:STANDARD
BEGIN:DAYLIGHT
TZOFFSETFROM:-0500
TZOFFSETTO:-0400
TZNAME:EDT
DTSTART:20260308T070000
END:DAYLIGHT
BEGIN:STANDARD
TZOFFSETFROM:-0400
TZOFFSETTO:-0500
TZNAME:EST
DTSTART:20261101T060000
END:STANDARD
END:VTIMEZONE
BEGIN:VEVENT
DTSTART;TZID=America/New_York:20250720T100000
DTEND;TZID=America/New_York:20250720T140000
DTSTAMP:20260425T151318
CREATED:20250708T143846Z
LAST-MODIFIED:20250708T151022Z
UID:3722-1753005600-1753020000@www.manasotabuds.org
SUMMARY:Manasota BUDS at Siesta Beach!
DESCRIPTION:Celebrate Summer with the whole Manasota BUDS family at the Sunset Pavilion at Siesta Beach on Sunday\, July 20th from 10 am to 2 pm!  You can find us at the Sunset Pavilion right by the Playground on the East side of the beach. \n\n\n\nBring a lunch and beverages and come join the party! \n\n\n\nThis event is open to all Manasota BUDS!
URL:https://www.manasotabuds.org/event/manasota-buds-at-siesta-beach/
LOCATION:Siesta Beach\, 498 Beach Road\, Sarasota\, Florida\, 34242\, United States
ATTACH;FMTTYPE=image/jpeg:https://www.manasotabuds.org/wp-content/uploads/summer_siesta_beach.jpg
END:VEVENT
END:VCALENDAR