BEGIN:VCALENDAR
VERSION:2.0
PRODID:-//Manasota BUDS - ECPv6.15.18//NONSGML v1.0//EN
CALSCALE:GREGORIAN
METHOD:PUBLISH
X-ORIGINAL-URL:https://www.manasotabuds.org
X-WR-CALDESC:Events for Manasota BUDS
REFRESH-INTERVAL;VALUE=DURATION:PT1H
X-Robots-Tag:noindex
X-PUBLISHED-TTL:PT1H
BEGIN:VTIMEZONE
TZID:America/New_York
BEGIN:DAYLIGHT
TZOFFSETFROM:-0500
TZOFFSETTO:-0400
TZNAME:EDT
DTSTART:20240310T070000
END:DAYLIGHT
BEGIN:STANDARD
TZOFFSETFROM:-0400
TZOFFSETTO:-0500
TZNAME:EST
DTSTART:20241103T060000
END:STANDARD
BEGIN:DAYLIGHT
TZOFFSETFROM:-0500
TZOFFSETTO:-0400
TZNAME:EDT
DTSTART:20250309T070000
END:DAYLIGHT
BEGIN:STANDARD
TZOFFSETFROM:-0400
TZOFFSETTO:-0500
TZNAME:EST
DTSTART:20251102T060000
END:STANDARD
BEGIN:DAYLIGHT
TZOFFSETFROM:-0500
TZOFFSETTO:-0400
TZNAME:EDT
DTSTART:20260308T070000
END:DAYLIGHT
BEGIN:STANDARD
TZOFFSETFROM:-0400
TZOFFSETTO:-0500
TZNAME:EST
DTSTART:20261101T060000
END:STANDARD
END:VTIMEZONE
BEGIN:VEVENT
DTSTART;TZID=America/New_York:20250608T130000
DTEND;TZID=America/New_York:20250608T153000
DTSTAMP:20260423T112559
CREATED:20250509T212050Z
LAST-MODIFIED:20250607T004116Z
UID:3635-1749387600-1749396600@www.manasotabuds.org
SUMMARY:06/08 - Tween BUDS at the Movies!
DESCRIPTION:It’s Summer at the movies with Manasota BUDS! T(w)een BUDS are invited to come watch the live-action Lilo & Stitch at AMC Bradenton 20 on the afternoon of Sunday\, June 8th! The movie starts at 1:30 pm\, we’ll be meeting up a little early. Meet us just inside the theater to the left by the Foosball table. Manasota BUDS is renting out the theater\, but you’ll need to cover the snacks. Come have fun! This event is open to BUDS ages 11 – 17 with 1 Parent/Guardian per BUD. Please RSVP for yourself and your child.
URL:https://www.manasotabuds.org/event/06-08-tween-buds-at-the-movies/
LOCATION:Florida
ATTACH;FMTTYPE=image/jpeg:https://www.manasotabuds.org/wp-content/uploads/summer_movie_image.jpg
END:VEVENT
END:VCALENDAR