BEGIN:VCALENDAR
VERSION:2.0
PRODID:-//Manasota BUDS - ECPv6.15.18//NONSGML v1.0//EN
CALSCALE:GREGORIAN
METHOD:PUBLISH
X-WR-CALNAME:Manasota BUDS
X-ORIGINAL-URL:https://www.manasotabuds.org
X-WR-CALDESC:Events for Manasota BUDS
REFRESH-INTERVAL;VALUE=DURATION:PT1H
X-Robots-Tag:noindex
X-PUBLISHED-TTL:PT1H
BEGIN:VTIMEZONE
TZID:America/New_York
BEGIN:DAYLIGHT
TZOFFSETFROM:-0500
TZOFFSETTO:-0400
TZNAME:EDT
DTSTART:20240310T070000
END:DAYLIGHT
BEGIN:STANDARD
TZOFFSETFROM:-0400
TZOFFSETTO:-0500
TZNAME:EST
DTSTART:20241103T060000
END:STANDARD
BEGIN:DAYLIGHT
TZOFFSETFROM:-0500
TZOFFSETTO:-0400
TZNAME:EDT
DTSTART:20250309T070000
END:DAYLIGHT
BEGIN:STANDARD
TZOFFSETFROM:-0400
TZOFFSETTO:-0500
TZNAME:EST
DTSTART:20251102T060000
END:STANDARD
BEGIN:DAYLIGHT
TZOFFSETFROM:-0500
TZOFFSETTO:-0400
TZNAME:EDT
DTSTART:20260308T070000
END:DAYLIGHT
BEGIN:STANDARD
TZOFFSETFROM:-0400
TZOFFSETTO:-0500
TZNAME:EST
DTSTART:20261101T060000
END:STANDARD
END:VTIMEZONE
BEGIN:VEVENT
DTSTART;TZID=America/New_York:20250502T110000
DTEND;TZID=America/New_York:20250502T190000
DTSTAMP:20260423T125726
CREATED:20250327T214229Z
LAST-MODIFIED:20250416T175435Z
UID:3522-1746183600-1746212400@www.manasotabuds.org
SUMMARY:CANCELLED 05/02 - Annual Gulf Coast MBA Charity Golf Tournament
DESCRIPTION:The Annual Gulf Coast MBA Charity Golf Tournament\, originally scheduled for May 2nd to benefit Manasota BUDS (Bringing Up Down Syndrome)\, has been canceled and will be rescheduled for a later date. \n\n\n\nWe appreciate your understanding and continued support. For updates or additional information\, please contact the Gulf Coast MBA directly at https://gulfcoastmba.org/index.php \n\n\n\nJoin us for the Gulf Coast Mortgage Bankers Association Annual Golf Charity Tournament\, benefiting Manasota BUDS! \n\n\n\nTee up for an unforgettable afternoon filled with delicious food\, refreshing drinks\, and a whole lot of fun on the green—all for a great cause! Your participation helps us fund Summer Scholarships\, expert guest speakers\, and vital support programs for individuals with Down syndrome and their families. \n\n\n\n\n\n\n\n📍 Check-in: 11:00 AM⛳ Tournament Start: 12:00 PM🍽️ Enjoy a fantastic lunch\, an exciting auction\, and an inspiring Awards Dinner to cap off the day! \n\n\n\nReady to make a difference while having a blast? Click ‘Learn More’ below to register today!
URL:https://www.manasotabuds.org/event/05-02-annual-gulf-coast-mba-charity-golf-tournament/
LOCATION:The Meadows Country Club\, 3101 Longmeadow\, Sarasota\, Florida\, 34235\, United States
ATTACH;FMTTYPE=image/png:https://www.manasotabuds.org/wp-content/uploads/Golf-Tournament-Flyer-2025.png
END:VEVENT
END:VCALENDAR