BEGIN:VCALENDAR
VERSION:2.0
PRODID:-//Manasota BUDS - ECPv6.15.18//NONSGML v1.0//EN
CALSCALE:GREGORIAN
METHOD:PUBLISH
X-ORIGINAL-URL:https://www.manasotabuds.org
X-WR-CALDESC:Events for Manasota BUDS
REFRESH-INTERVAL;VALUE=DURATION:PT1H
X-Robots-Tag:noindex
X-PUBLISHED-TTL:PT1H
BEGIN:VTIMEZONE
TZID:America/New_York
BEGIN:DAYLIGHT
TZOFFSETFROM:-0500
TZOFFSETTO:-0400
TZNAME:EDT
DTSTART:20240310T070000
END:DAYLIGHT
BEGIN:STANDARD
TZOFFSETFROM:-0400
TZOFFSETTO:-0500
TZNAME:EST
DTSTART:20241103T060000
END:STANDARD
BEGIN:DAYLIGHT
TZOFFSETFROM:-0500
TZOFFSETTO:-0400
TZNAME:EDT
DTSTART:20250309T070000
END:DAYLIGHT
BEGIN:STANDARD
TZOFFSETFROM:-0400
TZOFFSETTO:-0500
TZNAME:EST
DTSTART:20251102T060000
END:STANDARD
BEGIN:DAYLIGHT
TZOFFSETFROM:-0500
TZOFFSETTO:-0400
TZNAME:EDT
DTSTART:20260308T070000
END:DAYLIGHT
BEGIN:STANDARD
TZOFFSETFROM:-0400
TZOFFSETTO:-0500
TZNAME:EST
DTSTART:20261101T060000
END:STANDARD
END:VTIMEZONE
BEGIN:VEVENT
DTSTART;TZID=America/New_York:20250413T140000
DTEND;TZID=America/New_York:20250413T160000
DTSTAMP:20260423T064806
CREATED:20250317T171452Z
LAST-MODIFIED:20250317T171455Z
UID:3477-1744552800-1744560000@www.manasotabuds.org
SUMMARY:Teen BUDS Mini-Golf
DESCRIPTION:Bring your teen out for a fun afternoon of mini-golf at The Fish Hole in Lakewood Ranch on Sunday\, April 13! This event is open to all Teen BUDS ages 11–17. \n\n\n\nManasota BUDS will cover the cost for one teen with Down syndrome and one accompanying adult. Other family members are welcome to join the fun\, but they’ll need to purchase their own tickets. \n\n\n\nAfter mini-golf\, stick around and catch up with other families over ice cream (at your own expense). \n\n\n\nPlease RSVP for one teen with Down syndrome only to help us plan accordingly. We hope to see you there!
URL:https://www.manasotabuds.org/event/teen-buds-mini-golf/
LOCATION:The Fish Hole\, 10725 Rodeo Drive\, Bradenton\, Florida\, 34202\, United States
ATTACH;FMTTYPE=image/avif:https://www.manasotabuds.org/wp-content/uploads/fish_hole_logo.avif
END:VEVENT
END:VCALENDAR