BEGIN:VCALENDAR
VERSION:2.0
PRODID:-//Manasota BUDS - ECPv6.15.18//NONSGML v1.0//EN
CALSCALE:GREGORIAN
METHOD:PUBLISH
X-ORIGINAL-URL:https://www.manasotabuds.org
X-WR-CALDESC:Events for Manasota BUDS
REFRESH-INTERVAL;VALUE=DURATION:PT1H
X-Robots-Tag:noindex
X-PUBLISHED-TTL:PT1H
BEGIN:VTIMEZONE
TZID:America/New_York
BEGIN:DAYLIGHT
TZOFFSETFROM:-0500
TZOFFSETTO:-0400
TZNAME:EDT
DTSTART:20230312T070000
END:DAYLIGHT
BEGIN:STANDARD
TZOFFSETFROM:-0400
TZOFFSETTO:-0500
TZNAME:EST
DTSTART:20231105T060000
END:STANDARD
BEGIN:DAYLIGHT
TZOFFSETFROM:-0500
TZOFFSETTO:-0400
TZNAME:EDT
DTSTART:20240310T070000
END:DAYLIGHT
BEGIN:STANDARD
TZOFFSETFROM:-0400
TZOFFSETTO:-0500
TZNAME:EST
DTSTART:20241103T060000
END:STANDARD
BEGIN:DAYLIGHT
TZOFFSETFROM:-0500
TZOFFSETTO:-0400
TZNAME:EDT
DTSTART:20250309T070000
END:DAYLIGHT
BEGIN:STANDARD
TZOFFSETFROM:-0400
TZOFFSETTO:-0500
TZNAME:EST
DTSTART:20251102T060000
END:STANDARD
END:VTIMEZONE
BEGIN:VEVENT
DTSTART;TZID=America/New_York:20241215T150000
DTEND;TZID=America/New_York:20241215T170000
DTSTAMP:20260425T152026
CREATED:20240830T211413Z
LAST-MODIFIED:20240830T215555Z
UID:2950-1734274800-1734282000@www.manasotabuds.org
SUMMARY:12/15/24 - Adventure for All Winter Party (Cool BUDS 18+)
DESCRIPTION:Celebrate the Winter holidays with us at Adventure for All! We’ll be serving pizza\, salad\, and drinks as we enjoy the festivities together. This event is limited to 15 young adults with Down syndrome. Special thanks to Neal Communities for their generous grant that makes this event possible.
URL:https://www.manasotabuds.org/event/12-15-24-adventure-for-all-winter-party-cool-buds-18/
LOCATION:Adventure for All\, 1361 Boulevard of the Arts\, Suite 102\, Sarasota\, Florida\, 34236\, United States
ATTACH;FMTTYPE=image/png:https://www.manasotabuds.org/wp-content/uploads/Untitled-design1.png
END:VEVENT
END:VCALENDAR