BEGIN:VCALENDAR
VERSION:2.0
PRODID:-//Manasota BUDS - ECPv6.15.18//NONSGML v1.0//EN
CALSCALE:GREGORIAN
METHOD:PUBLISH
X-WR-CALNAME:Manasota BUDS
X-ORIGINAL-URL:https://www.manasotabuds.org
X-WR-CALDESC:Events for Manasota BUDS
REFRESH-INTERVAL;VALUE=DURATION:PT1H
X-Robots-Tag:noindex
X-PUBLISHED-TTL:PT1H
BEGIN:VTIMEZONE
TZID:America/New_York
BEGIN:DAYLIGHT
TZOFFSETFROM:-0500
TZOFFSETTO:-0400
TZNAME:EDT
DTSTART:20230312T070000
END:DAYLIGHT
BEGIN:STANDARD
TZOFFSETFROM:-0400
TZOFFSETTO:-0500
TZNAME:EST
DTSTART:20231105T060000
END:STANDARD
BEGIN:DAYLIGHT
TZOFFSETFROM:-0500
TZOFFSETTO:-0400
TZNAME:EDT
DTSTART:20240310T070000
END:DAYLIGHT
BEGIN:STANDARD
TZOFFSETFROM:-0400
TZOFFSETTO:-0500
TZNAME:EST
DTSTART:20241103T060000
END:STANDARD
BEGIN:DAYLIGHT
TZOFFSETFROM:-0500
TZOFFSETTO:-0400
TZNAME:EDT
DTSTART:20250309T070000
END:DAYLIGHT
BEGIN:STANDARD
TZOFFSETFROM:-0400
TZOFFSETTO:-0500
TZNAME:EST
DTSTART:20251102T060000
END:STANDARD
END:VTIMEZONE
BEGIN:VEVENT
DTSTART;TZID=America/New_York:20240910T180000
DTEND;TZID=America/New_York:20240910T191500
DTSTAMP:20260425T234921
CREATED:20240826T135903Z
LAST-MODIFIED:20240826T135904Z
UID:2937-1725991200-1725995700@www.manasotabuds.org
SUMMARY:9/10 Buddy Up Fitness Fall Session: Class 1
DESCRIPTION:Join us for the Fall Session of Buddy Up Fitness\, a unique program designed for athletes aged 15 and older! Limited to just 10 participants\, this 8-week session will run every Tuesday from September 10th to October 29th at the Sarasota City YMCA. \n\n\n\nDetails: \n\n\n\n\nFee: $30 per session\n\n\n\nDates: 9/10\, 9/17\, 9/24\, 10/1\, 10/8\, 10/15\, 10/23\, 10/29\n\n\n\nLocation: Sarasota City YMCA\, 1075 S. Euclid Ave.\, Sarasota\, FL 34237\n\n\n\nRegistration Deadline: 9/2\n\n\n\nHow to Register: Email David Rouse at sarasotatennis@buforlife.org\n\n\n\n\nParticipants will be notified by email on or before 9/5. Please note\, registration for the Fall Session does not guarantee a spot in future sessions. \n\n\n\nDon’t miss out on this opportunity—spaces are limited and will be filled on a first-come\, first-serve basis!
URL:https://www.manasotabuds.org/event/9-10-buddy-up-fitness-fall-session-class-1/
LOCATION:Sarasota City YMCA\, 1075 S. Euclid Ave\, Sarasota\, Florida\, 34237
ATTACH;FMTTYPE=image/jpeg:https://www.manasotabuds.org/wp-content/uploads/person-riding-a-bicycle-in-autumn-18423116-scaled.jpg
END:VEVENT
END:VCALENDAR